BEGIN:VCALENDAR
VERSION:2.0
PRODID:-//Federación Motonautica de la Región de Murcia - ECPv6.15.20//NONSGML v1.0//EN
CALSCALE:GREGORIAN
METHOD:PUBLISH
X-WR-CALNAME:Federación Motonautica de la Región de Murcia
X-ORIGINAL-URL:https://fmrmurcia.com
X-WR-CALDESC:Eventos para Federación Motonautica de la Región de Murcia
REFRESH-INTERVAL;VALUE=DURATION:PT1H
X-Robots-Tag:noindex
X-PUBLISHED-TTL:PT1H
BEGIN:VTIMEZONE
TZID:Europe/Madrid
BEGIN:DAYLIGHT
TZOFFSETFROM:+0100
TZOFFSETTO:+0200
TZNAME:CEST
DTSTART:20250330T010000
END:DAYLIGHT
BEGIN:STANDARD
TZOFFSETFROM:+0200
TZOFFSETTO:+0100
TZNAME:CET
DTSTART:20251026T010000
END:STANDARD
BEGIN:DAYLIGHT
TZOFFSETFROM:+0100
TZOFFSETTO:+0200
TZNAME:CEST
DTSTART:20260329T010000
END:DAYLIGHT
BEGIN:STANDARD
TZOFFSETFROM:+0200
TZOFFSETTO:+0100
TZNAME:CET
DTSTART:20261025T010000
END:STANDARD
BEGIN:DAYLIGHT
TZOFFSETFROM:+0100
TZOFFSETTO:+0200
TZNAME:CEST
DTSTART:20270328T010000
END:DAYLIGHT
BEGIN:STANDARD
TZOFFSETFROM:+0200
TZOFFSETTO:+0100
TZNAME:CET
DTSTART:20271031T010000
END:STANDARD
END:VTIMEZONE
BEGIN:VEVENT
DTSTART;VALUE=DATE:20261009
DTEND;VALUE=DATE:20261012
DTSTAMP:20260421T172224
CREATED:20260119T232927Z
LAST-MODIFIED:20260122T213704Z
UID:81536-1791504000-1791763199@fmrmurcia.com
SUMMARY:Copa del Rey 2026 — Motos de agua (Murcia)
DESCRIPTION:La Copa del Rey de motos de agua es una de las citas más esperadas del calendario: competición\, afición y ambiente federativo en un evento pensado para disfrutar del deporte en el mar. \nEn qué consiste\nPrueba oficial donde los pilotos compiten por categorías en mangas puntuables. La organización prioriza la seguridad\, el cumplimiento reglamentario y una experiencia clara tanto para participantes como para público. \nCategorías y formato\n\nMotos de agua por clases (según reglamento y convocatoria).\nMangas competitivas con clasificación y entrega de resultados.\nControles técnicos y verificación previa.\n\nInformación práctica\n\nUbicación: Murcia (Región de Murcia).\nFecha: Octubre 2026 (pendiente de confirmación exacta).\nAcceso: consulta esta página para novedades y publicación de horarios.\n\nPara participantes\n\nLicencia federativa en vigor y documentación técnica al día.\nRevisión de normativa y requisitos de seguridad obligatorios.\nRecomendado llegar con margen para verificaciones.\n\nActualizaciones: en cuanto se confirme el programa oficial\, publicaremos horarios\, ubicación exacta\, requisitos y procedimiento de inscripción.
URL:https://fmrmurcia.com/eventos-motonautica-murcia/copa-del-rey-2026-motos-de-agua-murcia/
LOCATION:Puerto Deportivo Mazarrón\, Calle Plaza del Muelle\, s/n Puerto de Mazarrón\, Murcia\, 30860\, Spain
CATEGORIES:Competiciones
ATTACH;FMTTYPE=image/jpeg:https://fmrmurcia.com/wp-content/uploads/2026/01/copa_rey_2026.jpg
ORGANIZER;CN="Federaci%C3%B3n Moton%C3%A1utica de la Regi%C3%B3n de Murcia":MAILTO:secretaria@fmrmurcia.com
END:VEVENT
END:VCALENDAR