BEGIN:VCALENDAR
VERSION:2.0
PRODID:-//Federación Motonautica de la Región de Murcia - ECPv6.15.15//NONSGML v1.0//EN
CALSCALE:GREGORIAN
METHOD:PUBLISH
X-ORIGINAL-URL:https://fmrmurcia.com
X-WR-CALDESC:Eventos para Federación Motonautica de la Región de Murcia
REFRESH-INTERVAL;VALUE=DURATION:PT1H
X-Robots-Tag:noindex
X-PUBLISHED-TTL:PT1H
BEGIN:VTIMEZONE
TZID:Europe/Madrid
BEGIN:DAYLIGHT
TZOFFSETFROM:+0100
TZOFFSETTO:+0200
TZNAME:CEST
DTSTART:20250330T010000
END:DAYLIGHT
BEGIN:STANDARD
TZOFFSETFROM:+0200
TZOFFSETTO:+0100
TZNAME:CET
DTSTART:20251026T010000
END:STANDARD
BEGIN:DAYLIGHT
TZOFFSETFROM:+0100
TZOFFSETTO:+0200
TZNAME:CEST
DTSTART:20260329T010000
END:DAYLIGHT
BEGIN:STANDARD
TZOFFSETFROM:+0200
TZOFFSETTO:+0100
TZNAME:CET
DTSTART:20261025T010000
END:STANDARD
BEGIN:DAYLIGHT
TZOFFSETFROM:+0100
TZOFFSETTO:+0200
TZNAME:CEST
DTSTART:20270328T010000
END:DAYLIGHT
BEGIN:STANDARD
TZOFFSETFROM:+0200
TZOFFSETTO:+0100
TZNAME:CET
DTSTART:20271031T010000
END:STANDARD
END:VTIMEZONE
BEGIN:VEVENT
DTSTART;TZID=Europe/Madrid:20260920T100000
DTEND;TZID=Europe/Madrid:20260920T180000
DTSTAMP:20260419T151702
CREATED:20260119T232729Z
LAST-MODIFIED:20260122T213802Z
UID:81533-1789898400-1789927200@fmrmurcia.com
SUMMARY:Campeonato España Regularidad 2026
DESCRIPTION:El Campeonato de España de Regularidad es una modalidad diferente: aquí la clave no es solo la velocidad\, sino la constancia\, la estrategia y la navegación precisa. \nQué es la Regularidad\nLa regularidad premia mantener un ritmo objetivo y ejecutar el recorrido con precisión. Es una prueba ideal para pilotos que disfrutan de la planificación\, el control y la navegación. \nQué se evalúa\n\nConsistencia y control del ritmo en los tramos definidos.\nCumplimiento del recorrido y puntos de referencia.\nPenalizaciones según reglamento por desvíos o incumplimientos.\n\nInformación práctica\n\nUbicación: Mar de Cristal (Región de Murcia).\nFecha: Septiembre 2026 (pendiente de confirmación exacta).\nRecomendación: revisa esta página para la publicación del briefing y del recorrido.\n\nPara participantes\n\nLicencia y documentación en vigor.\nAsistencia al briefing obligatorio (si aplica).\nEquipamiento de seguridad y cumplimiento normativo.\n\nInscripción: se publicará el procedimiento y requisitos en cuanto quede confirmado el calendario oficial.
URL:https://fmrmurcia.com/eventos-motonautica-murcia/campeonato-espana-regularidad-2026/
LOCATION:Puerto Deportivo Mazarrón\, Calle Plaza del Muelle\, s/n Puerto de Mazarrón\, Murcia\, 30860\, Spain
CATEGORIES:Competiciones
ATTACH;FMTTYPE=image/jpeg:https://fmrmurcia.com/wp-content/uploads/2026/01/campeonato_espa_regularidad.jpg
ORGANIZER;CN="Federaci%C3%B3n Moton%C3%A1utica de la Regi%C3%B3n de Murcia":MAILTO:secretaria@fmrmurcia.com
END:VEVENT
END:VCALENDAR